BEGIN:VCALENDAR
VERSION:2.0
PRODID:-//Birregurra Golf Club - ECPv5.3.1.1//NONSGML v1.0//EN
CALSCALE:GREGORIAN
METHOD:PUBLISH
X-WR-CALNAME:Birregurra Golf Club
X-ORIGINAL-URL:https://birregurragolfclub.com.au
X-WR-CALDESC:Events for Birregurra Golf Club
BEGIN:VTIMEZONE
TZID:Australia/Melbourne
BEGIN:STANDARD
TZOFFSETFROM:+1100
TZOFFSETTO:+1000
TZNAME:AEST
DTSTART:20210403T160000
END:STANDARD
BEGIN:DAYLIGHT
TZOFFSETFROM:+1000
TZOFFSETTO:+1100
TZNAME:AEDT
DTSTART:20211002T160000
END:DAYLIGHT
END:VTIMEZONE
BEGIN:VEVENT
DTSTART;VALUE=DATE:20210308
DTEND;VALUE=DATE:20210309
DTSTAMP:20210223T143510
CREATED:20210221T003254Z
LAST-MODIFIED:20210221T003254Z
UID:1891-1615161600-1615247999@birregurragolfclub.com.au
SUMMARY:2-Person Ambrose
DESCRIPTION:
URL:https://birregurragolfclub.com.au/event/2-person-ambrose/
LOCATION:Birregurra Golf Club\, Park Lane\, Birregurra\, Victoria\, 3242\, Australia
CATEGORIES:Competition,Ladies,Mens
END:VEVENT
END:VCALENDAR