BEGIN:VCALENDAR
VERSION:2.0
PRODID:-//Birregurra Golf Club - ECPv5.3.1.1//NONSGML v1.0//EN
CALSCALE:GREGORIAN
METHOD:PUBLISH
X-WR-CALNAME:Birregurra Golf Club
X-ORIGINAL-URL:https://birregurragolfclub.com.au
X-WR-CALDESC:Events for Birregurra Golf Club
BEGIN:VTIMEZONE
TZID:Australia/Melbourne
BEGIN:STANDARD
TZOFFSETFROM:+1100
TZOFFSETTO:+1000
TZNAME:AEST
DTSTART:20180331T160000
END:STANDARD
BEGIN:DAYLIGHT
TZOFFSETFROM:+1000
TZOFFSETTO:+1100
TZNAME:AEDT
DTSTART:20181006T160000
END:DAYLIGHT
END:VTIMEZONE
BEGIN:VEVENT
DTSTART;TZID=Australia/Melbourne:20180906T090000
DTEND;TZID=Australia/Melbourne:20180906T153000
DTSTAMP:20210223T143647
CREATED:20180823T014042Z
LAST-MODIFIED:20180823T020405Z
UID:1419-1536224400-1536247800@birregurragolfclub.com.au
SUMMARY:Stableford with 9am meeting
DESCRIPTION:MATCH DAY COMPETITIONS\nThursdays 10am.\nPutting competition on all stroke rounds\nNearest the Pin on all stableford rounds\nEclectic on all stroke\, stableford and par rounds\nEclectic begins 5th April 2018 ends 25th October 2018 \nMedal: Best 3 out of 5 nominated rounds \nCaptains Trophy: Best 3 out of 4 nominated rounds \nAggregate Trophy for most wins on match day 8th Feb 2018 – 17th Oct 2018
URL:https://birregurragolfclub.com.au/event/stableford-with-9am-meeting/
LOCATION:Birregurra Golf Club\, Park Lane\, Birregurra\, Victoria\, 3242\, Australia
CATEGORIES:Ladies,Meeting
END:VEVENT
END:VCALENDAR